BEGIN:VCALENDAR
VERSION:2.0
PRODID:-//Dalmatia Outdoors - ECPv6.9.0//NONSGML v1.0//EN
CALSCALE:GREGORIAN
METHOD:PUBLISH
X-WR-CALNAME:Dalmatia Outdoors
X-ORIGINAL-URL:https://dalmatiaoutdoors.com
X-WR-CALDESC:Events for Dalmatia Outdoors
REFRESH-INTERVAL;VALUE=DURATION:PT1H
X-Robots-Tag:noindex
X-PUBLISHED-TTL:PT1H
BEGIN:VTIMEZONE
TZID:Europe/Zagreb
BEGIN:DAYLIGHT
TZOFFSETFROM:+0100
TZOFFSETTO:+0200
TZNAME:CEST
DTSTART:20250330T010000
END:DAYLIGHT
BEGIN:STANDARD
TZOFFSETFROM:+0200
TZOFFSETTO:+0100
TZNAME:CET
DTSTART:20251026T010000
END:STANDARD
END:VTIMEZONE
BEGIN:VEVENT
DTSTART;VALUE=DATE:20250517
DTEND;VALUE=DATE:20250518
DTSTAMP:20260422T191205
CREATED:20250319T191330Z
LAST-MODIFIED:20250319T191330Z
UID:83741-1747440000-1747526399@dalmatiaoutdoors.com
SUMMARY:Brač Trail 2025
DESCRIPTION:Brač is one of the largest and most populated islands in the Adriatic\, but despite its high level of civilization\, the Brač Trail will reveal the most beautiful corners of this impressive island. The entire race runs on the Vidova Gora plateau\, which rises to 778 m above sea level\, making it the highest island in the Adriatic!
URL:https://dalmatiaoutdoors.com/event/brac-trail-2025/
LOCATION:Brač Trail 2025\, Gažul\, Vidova gora\, Brač Island
ATTACH;FMTTYPE=image/jpeg:https://dalmatiaoutdoors.com/wp-content/uploads/2025/03/Brac_Trail_web_unutarnja_4.jpg
END:VEVENT
END:VCALENDAR