BEGIN:VCALENDAR
VERSION:2.0
PRODID:-//Dalmatia Outdoors - ECPv6.9.0//NONSGML v1.0//EN
CALSCALE:GREGORIAN
METHOD:PUBLISH
X-WR-CALNAME:Dalmatia Outdoors
X-ORIGINAL-URL:https://dalmatiaoutdoors.com
X-WR-CALDESC:Events for Dalmatia Outdoors
REFRESH-INTERVAL;VALUE=DURATION:PT1H
X-Robots-Tag:noindex
X-PUBLISHED-TTL:PT1H
BEGIN:VTIMEZONE
TZID:Europe/Zagreb
BEGIN:DAYLIGHT
TZOFFSETFROM:+0100
TZOFFSETTO:+0200
TZNAME:CEST
DTSTART:20250330T010000
END:DAYLIGHT
BEGIN:STANDARD
TZOFFSETFROM:+0200
TZOFFSETTO:+0100
TZNAME:CET
DTSTART:20251026T010000
END:STANDARD
END:VTIMEZONE
BEGIN:VEVENT
DTSTART;VALUE=DATE:20250516
DTEND;VALUE=DATE:20250519
DTSTAMP:20260422T191213
CREATED:20250319T134520Z
LAST-MODIFIED:20250319T134642Z
UID:83666-1747353600-1747612799@dalmatiaoutdoors.com
SUMMARY:Croatia Birdwatching Festival
DESCRIPTION:The festival program consists of fieldwork\, tours of sites in the Neretva Valley and the surrounding area\, and expert lectures.
URL:https://dalmatiaoutdoors.com/event/croatia-birdwatching-festival/
LOCATION:Croatia Birdwatching Festival\, Neretva Valley\, Ploče
CATEGORIES:Ploče
ATTACH;FMTTYPE=image/jpeg:https://dalmatiaoutdoors.com/wp-content/uploads/2025/03/Snimka-zaslona-2025-03-19-144339.jpg
END:VEVENT
END:VCALENDAR