BEGIN:VCALENDAR
VERSION:2.0
PRODID:-//Dalmatia Outdoors - ECPv6.9.0//NONSGML v1.0//EN
CALSCALE:GREGORIAN
METHOD:PUBLISH
X-WR-CALNAME:Dalmatia Outdoors
X-ORIGINAL-URL:https://dalmatiaoutdoors.com
X-WR-CALDESC:Events for Dalmatia Outdoors
REFRESH-INTERVAL;VALUE=DURATION:PT1H
X-Robots-Tag:noindex
X-PUBLISHED-TTL:PT1H
BEGIN:VTIMEZONE
TZID:Europe/Zagreb
BEGIN:DAYLIGHT
TZOFFSETFROM:+0100
TZOFFSETTO:+0200
TZNAME:CEST
DTSTART:20250330T010000
END:DAYLIGHT
BEGIN:STANDARD
TZOFFSETFROM:+0200
TZOFFSETTO:+0100
TZNAME:CET
DTSTART:20251026T010000
END:STANDARD
END:VTIMEZONE
BEGIN:VEVENT
DTSTART;VALUE=DATE:20250605
DTEND;VALUE=DATE:20250708
DTSTAMP:20260422T190846
CREATED:20250523T152935Z
LAST-MODIFIED:20250523T152935Z
UID:83850-1749081600-1751932799@dalmatiaoutdoors.com
SUMMARY:SUNSET SPORTS FESTIVAL
DESCRIPTION:Discover the future of sports business\, technology\, and media innovation against the stunning backdrop of the Adriatic coast. Now in its FOURTH consecutive year\, Sunset Sports Festival is a favorite gathering place for industry leaders\, innovators\, and enthusiasts — and one of the leading platforms for dynamic exploration of the ever-evolving world of the sports and entertainment industry.
URL:https://dalmatiaoutdoors.com/event/sunset-sports-festival/
LOCATION:SUNSET SPORTS FESTIVAL\, Zadar
ATTACH;FMTTYPE=image/jpeg:https://dalmatiaoutdoors.com/wp-content/uploads/2025/05/SUNSET-SPORTS-FESTIVAL.jpg
END:VEVENT
END:VCALENDAR