BEGIN:VCALENDAR
VERSION:2.0
PRODID:-//Dalmatia Outdoors - ECPv6.9.0//NONSGML v1.0//EN
CALSCALE:GREGORIAN
METHOD:PUBLISH
X-WR-CALNAME:Dalmatia Outdoors
X-ORIGINAL-URL:https://dalmatiaoutdoors.com
X-WR-CALDESC:Events for Dalmatia Outdoors
REFRESH-INTERVAL;VALUE=DURATION:PT1H
X-Robots-Tag:noindex
X-PUBLISHED-TTL:PT1H
BEGIN:VTIMEZONE
TZID:Europe/Zagreb
BEGIN:DAYLIGHT
TZOFFSETFROM:+0100
TZOFFSETTO:+0200
TZNAME:CEST
DTSTART:20250330T010000
END:DAYLIGHT
BEGIN:STANDARD
TZOFFSETFROM:+0200
TZOFFSETTO:+0100
TZNAME:CET
DTSTART:20251026T010000
END:STANDARD
END:VTIMEZONE
BEGIN:VEVENT
DTSTART;VALUE=DATE:20250524
DTEND;VALUE=DATE:20250525
DTSTAMP:20260422T191320
CREATED:20250319T191745Z
LAST-MODIFIED:20250319T191911Z
UID:83745-1748044800-1748131199@dalmatiaoutdoors.com
SUMMARY:Trogir Outdoor Festival 2025 - Masters of trail
DESCRIPTION:Discover breathtaking trails and push your limits in a race that will connect you with nature!
URL:https://dalmatiaoutdoors.com/event/trogir-outdoor-festival-2025-masters-of-trail/
LOCATION:Trogir Outdoor Festival\, Trogir and Čiovo
ATTACH;FMTTYPE=image/jpeg:https://dalmatiaoutdoors.com/wp-content/uploads/2025/03/WhatsApp-Image-2025-03-04-at-12.53.13-1024x576-1.jpeg
END:VEVENT
END:VCALENDAR