BEGIN:VCALENDAR
VERSION:2.0
PRODID:-//Dalmatia Outdoors - ECPv6.9.0//NONSGML v1.0//EN
CALSCALE:GREGORIAN
METHOD:PUBLISH
X-WR-CALNAME:Dalmatia Outdoors
X-ORIGINAL-URL:https://dalmatiaoutdoors.com
X-WR-CALDESC:Events for Dalmatia Outdoors
REFRESH-INTERVAL;VALUE=DURATION:PT1H
X-Robots-Tag:noindex
X-PUBLISHED-TTL:PT1H
BEGIN:VTIMEZONE
TZID:Europe/Zagreb
BEGIN:DAYLIGHT
TZOFFSETFROM:+0100
TZOFFSETTO:+0200
TZNAME:CEST
DTSTART:20250330T010000
END:DAYLIGHT
BEGIN:STANDARD
TZOFFSETFROM:+0200
TZOFFSETTO:+0100
TZNAME:CET
DTSTART:20251026T010000
END:STANDARD
END:VTIMEZONE
BEGIN:VEVENT
DTSTART;VALUE=DATE:20250412
DTEND;VALUE=DATE:20250413
DTSTAMP:20260423T031833
CREATED:20250319T152630Z
LAST-MODIFIED:20250319T152630Z
UID:83693-1744416000-1744502399@dalmatiaoutdoors.com
SUMMARY:Zavratnica Trail
DESCRIPTION:The start is in Jablanac\, and the 6 km long trail passes through the heart of Zavratnica\, one of the most precious Adriatic pearls of Croatia.
URL:https://dalmatiaoutdoors.com/event/zavratnica-trail/
LOCATION:Zavrtnica trail\, Jablanac\, Uvala Zavratnica
ATTACH;FMTTYPE=image/jpeg:https://dalmatiaoutdoors.com/wp-content/uploads/2025/03/482140018_656202940264028_2506646022944351534_n.jpg
END:VEVENT
END:VCALENDAR