BEGIN:VCALENDAR
VERSION:2.0
PRODID:-//Dalmatia Outdoors - ECPv6.9.0//NONSGML v1.0//EN
CALSCALE:GREGORIAN
METHOD:PUBLISH
X-WR-CALNAME:Dalmatia Outdoors
X-ORIGINAL-URL:https://dalmatiaoutdoors.com
X-WR-CALDESC:Events for Dalmatia Outdoors
REFRESH-INTERVAL;VALUE=DURATION:PT1H
X-Robots-Tag:noindex
X-PUBLISHED-TTL:PT1H
BEGIN:VTIMEZONE
TZID:Europe/Zagreb
BEGIN:DAYLIGHT
TZOFFSETFROM:+0100
TZOFFSETTO:+0200
TZNAME:CEST
DTSTART:20250330T010000
END:DAYLIGHT
BEGIN:STANDARD
TZOFFSETFROM:+0200
TZOFFSETTO:+0100
TZNAME:CET
DTSTART:20251026T010000
END:STANDARD
END:VTIMEZONE
BEGIN:VEVENT
DTSTART;VALUE=DATE:20250510
DTEND;VALUE=DATE:20250511
DTSTAMP:20260423T015145
CREATED:20250319T173721Z
LAST-MODIFIED:20250319T173721Z
UID:83729-1746835200-1746921599@dalmatiaoutdoors.com
SUMMARY:Absolute Biokovo Challenge
DESCRIPTION:It climbs and descends along steep paths carved and walled into the cliffs themselves\, winds along small ridges between sinkholes\, and weaves through forests of pine\, beech\, and mountain maple…
URL:https://dalmatiaoutdoors.com/event/absolute-biokovo-challenge/
LOCATION:Absolute Biokovo Challenge\, Biokovo
ATTACH;FMTTYPE=image/webp:https://dalmatiaoutdoors.com/wp-content/uploads/2025/03/cropped-logo_v1.webp
END:VEVENT
BEGIN:VEVENT
DTSTART;VALUE=DATE:20250509
DTEND;VALUE=DATE:20250512
DTSTAMP:20260423T015145
CREATED:20250426T141819Z
LAST-MODIFIED:20250426T141819Z
UID:83823-1746748800-1747007999@dalmatiaoutdoors.com
SUMMARY:Vespa Meetup Podgora 2025
DESCRIPTION:Retro charm\, amazing company\, and the sea to cruise along—what more could you ask for? This year\, the Vespa gathering lasts a full three days! Friday\, May 9\, kicks things off with good food\, drinks\, and music to set the mood.
URL:https://dalmatiaoutdoors.com/event/vespa-meetup-podgora-2025/
LOCATION:Vespa Meetup Podgora 2025\, Podgora
ATTACH;FMTTYPE=image/jpeg:https://dalmatiaoutdoors.com/wp-content/uploads/2025/04/vespa-meetup.jpg
END:VEVENT
BEGIN:VEVENT
DTSTART;VALUE=DATE:20250509
DTEND;VALUE=DATE:20250512
DTSTAMP:20260423T015145
CREATED:20250117T154242Z
LAST-MODIFIED:20250117T154829Z
UID:83606-1746748800-1747007999@dalmatiaoutdoors.com
SUMMARY:Tour de Hvar
DESCRIPTION:Imagine a trail race on Hvar Island\, the sunniest island in the Mediterranean\, where mountains seamlessly merge into the crystal-clear Adriatic Sea\, offering breathtaking views and diverse terrain. And the best part? The warm Mediterranean Sea for the perfect post-race swim. \nParticipants will run through lush vineyards\, fragrant olive groves and ancient pine forests\, immersing themselves in the island’s rich heritage and culture\, which are also part of the UNESCO heritage. The race will pass by historic ruins and medieval fortresses\, providing a journey through time. \nYou’ll have the option to choose between 4 courses – 12 km\, 22 km\, 40 km and 65 km. You can expect some nice single trails\, perfect views of the Mediterranean Sea and other islands in the nearby area\, and courses full of rich history and culture.
URL:https://dalmatiaoutdoors.com/event/tour-de-hvar/
LOCATION:Tour de Hvar\, Hvar island\, Hvar Town and Stari Grad
CATEGORIES:Hvar
ATTACH;FMTTYPE=image/webp:https://dalmatiaoutdoors.com/wp-content/uploads/2025/01/tour-de-hvar-1200x278-1.webp
END:VEVENT
BEGIN:VEVENT
DTSTART;VALUE=DATE:20250503
DTEND;VALUE=DATE:20250504
DTSTAMP:20260423T015145
CREATED:20250426T140756Z
LAST-MODIFIED:20250426T140756Z
UID:83818-1746230400-1746316799@dalmatiaoutdoors.com
SUMMARY:2. Spužarica
DESCRIPTION:This unique celebration of Vrgorje’s gastronomic heritage will once again bring together lovers of traditional delicacies and cultural customs of our region.
URL:https://dalmatiaoutdoors.com/event/2-spuzarica/
LOCATION:2. Spužarica\, Vrgorac
ATTACH;FMTTYPE=image/jpeg:https://dalmatiaoutdoors.com/wp-content/uploads/2025/04/2.Spuzarica.jpg
END:VEVENT
BEGIN:VEVENT
DTSTART;VALUE=DATE:20250503
DTEND;VALUE=DATE:20250504
DTSTAMP:20260423T015145
CREATED:20250319T173045Z
LAST-MODIFIED:20250319T173242Z
UID:83725-1746230400-1746316799@dalmatiaoutdoors.com
SUMMARY:Mljet trail marathon
DESCRIPTION:Starting from Pomena along the sea to Polača\, where you’ll pass through the Roman Palace\, the third best-preserved and largest Roman monument on the Croatian coast.
URL:https://dalmatiaoutdoors.com/event/mljet-trail-marathon/
LOCATION:Mljet trail marathon\, Pomena\, Mljet Island
ATTACH;FMTTYPE=image/jpeg:https://dalmatiaoutdoors.com/wp-content/uploads/2025/03/Trail-na-Mljetu.jpg
END:VEVENT
BEGIN:VEVENT
DTSTART;VALUE=DATE:20250501
DTEND;VALUE=DATE:20250502
DTSTAMP:20260423T015145
CREATED:20250319T172656Z
LAST-MODIFIED:20250319T172711Z
UID:83720-1746057600-1746143999@dalmatiaoutdoors.com
SUMMARY:Đirada Red 2025
DESCRIPTION:The start is in Dobropoljana in the center of the town.
URL:https://dalmatiaoutdoors.com/event/dirada-red-2025/
LOCATION:Đirada Red 2025\, Dobropoljana\, Pašman Island
ATTACH;FMTTYPE=image/png:https://dalmatiaoutdoors.com/wp-content/uploads/2025/03/Slider-element3-Small.png
END:VEVENT
BEGIN:VEVENT
DTSTART;VALUE=DATE:20250430
DTEND;VALUE=DATE:20250505
DTSTAMP:20260423T015145
CREATED:20250426T135745Z
LAST-MODIFIED:20250426T135745Z
UID:83813-1745971200-1746403199@dalmatiaoutdoors.com
SUMMARY:Street Food Festival
DESCRIPTION:The festival in spring attire is transformed into a chill & lounge zone in the heart of the city\, where the smells of spring street food will blend with history\, music and relaxed gatherings.
URL:https://dalmatiaoutdoors.com/event/street-food-festival/
LOCATION:Street Food Festival\, Zadar
ATTACH;FMTTYPE=image/jpeg:https://dalmatiaoutdoors.com/wp-content/uploads/2025/04/street-food.jpg
END:VEVENT
BEGIN:VEVENT
DTSTART;VALUE=DATE:20250426
DTEND;VALUE=DATE:20250427
DTSTAMP:20260423T015145
CREATED:20250423T155908Z
LAST-MODIFIED:20250423T160055Z
UID:83802-1745625600-1745711999@dalmatiaoutdoors.com
SUMMARY:Mali medo (17 km)
DESCRIPTION:The race started and finished in the center of Brinje at the Tržnica Brinje location.
URL:https://dalmatiaoutdoors.com/event/mali-medo-17-km/
LOCATION:Mali medo (17 km)\, Brinje
ATTACH;FMTTYPE=image/jpeg:https://dalmatiaoutdoors.com/wp-content/uploads/2025/04/8.brinje-trail.jpg
END:VEVENT
BEGIN:VEVENT
DTSTART;VALUE=DATE:20250426
DTEND;VALUE=DATE:20250427
DTSTAMP:20260423T015145
CREATED:20250319T172207Z
LAST-MODIFIED:20250319T172207Z
UID:83715-1745625600-1745711999@dalmatiaoutdoors.com
SUMMARY:Jelsa Trail 2025.
DESCRIPTION:Jelsa Trail will take you across the greenery of Hvar’s olive groves\, vineyards and aromatic plants and combine with the smell of the blue sea for an authentic experience of Hvar Island.
URL:https://dalmatiaoutdoors.com/event/jelsa-trail-2025/
LOCATION:JelsaTrail 2025.\, Jelsa\, Hvar Island
CATEGORIES:Hvar
ATTACH;FMTTYPE=image/jpeg:https://dalmatiaoutdoors.com/wp-content/uploads/2025/03/Jelsa_vizual-1-pdf.jpg
END:VEVENT
BEGIN:VEVENT
DTSTART;VALUE=DATE:20250426
DTEND;VALUE=DATE:20250427
DTSTAMP:20260423T015145
CREATED:20250319T171651Z
LAST-MODIFIED:20250319T171651Z
UID:83711-1745625600-1745711999@dalmatiaoutdoors.com
SUMMARY:Adria Spring Trail 2025
DESCRIPTION:Terrain and routes: Mountain paths\, walkways and gravel roads
URL:https://dalmatiaoutdoors.com/event/adria-spring-trail-2025/
LOCATION:Adria Spring Trail\, Njivice\, Krk Island
ATTACH;FMTTYPE=image/jpeg:https://dalmatiaoutdoors.com/wp-content/uploads/2025/03/Adria_Spring_Trail_logo_web.jpg
END:VEVENT
BEGIN:VEVENT
DTSTART;VALUE=DATE:20250426
DTEND;VALUE=DATE:20250427
DTSTAMP:20260423T015145
CREATED:20250319T154028Z
LAST-MODIFIED:20250319T154028Z
UID:83703-1745625600-1745711999@dalmatiaoutdoors.com
SUMMARY:Island Pag Trail
DESCRIPTION:Where you can enjoy not only the beauty of the landscape\, but also the beauty of a number of man-made sites
URL:https://dalmatiaoutdoors.com/event/island-pag-trail/
LOCATION:Island Pag Trail\, Kolan\, Pag Island
ATTACH;FMTTYPE=image/png:https://dalmatiaoutdoors.com/wp-content/uploads/2025/03/logo280.png
END:VEVENT
BEGIN:VEVENT
DTSTART;VALUE=DATE:20250424
DTEND;VALUE=DATE:20250427
DTSTAMP:20260423T015145
CREATED:20250423T161847Z
LAST-MODIFIED:20250423T161847Z
UID:83807-1745452800-1745711999@dalmatiaoutdoors.com
SUMMARY:Baš Dobra Spiza
DESCRIPTION:Lovers of authentic flavors and local gastronomy\, get ready! From April 24 to 26\, 2025\, a real gastronomic treat awaits you – the “Baš Dobra Spiza” festival is coming to three locations: Drniš\, Bilice and Skradin.
URL:https://dalmatiaoutdoors.com/event/bas-dobra-spiza/
LOCATION:Baš Dobra Spiza\, Drniš\, Bilice & Skradin
ATTACH;FMTTYPE=image/jpeg:https://dalmatiaoutdoors.com/wp-content/uploads/2025/04/bas-dobra-spiza.jpg
END:VEVENT
BEGIN:VEVENT
DTSTART;VALUE=DATE:20250421
DTEND;VALUE=DATE:20250422
DTSTAMP:20260423T015145
CREATED:20250319T153134Z
LAST-MODIFIED:20250319T153608Z
UID:83697-1745193600-1745279999@dalmatiaoutdoors.com
SUMMARY:Sinjal ´25 - Utrka na vrh Hrvatske
DESCRIPTION:You start from Perućko Lake all the way to its highest peak\, Dinara\, which is currently the youngest nature park in Croatia
URL:https://dalmatiaoutdoors.com/event/sinjal-25-utrka-na-vrh-hrvatske/
LOCATION:SINJAL 25 – UTRKA NA VRH HRVATSKE\, PK Glavaš\, Kijevo\, Dinara
ATTACH;FMTTYPE=image/jpeg:https://dalmatiaoutdoors.com/wp-content/uploads/2025/03/475677111_1250317270431124_6738773083055452422_n-1-e1738703055857.jpg
END:VEVENT
BEGIN:VEVENT
DTSTART;VALUE=DATE:20250413
DTEND;VALUE=DATE:20250422
DTSTAMP:20260423T015145
CREATED:20250324T072834Z
LAST-MODIFIED:20250324T072834Z
UID:83764-1744502400-1745279999@dalmatiaoutdoors.com
SUMMARY:Holy Week Traditions in Korčula
DESCRIPTION:Traditional religious processions and events during Holy Week\, reflecting the island’s rich cultural heritage.
URL:https://dalmatiaoutdoors.com/event/holy-week-traditions-in-korcula/
LOCATION:Holy Week Traditions in Korčula\, Korčula Island
ATTACH;FMTTYPE=image/png:https://dalmatiaoutdoors.com/wp-content/uploads/2025/03/Holy-Week-Traditions-in-Korcula.png
END:VEVENT
BEGIN:VEVENT
DTSTART;VALUE=DATE:20250412
DTEND;VALUE=DATE:20250413
DTSTAMP:20260423T015145
CREATED:20250319T152630Z
LAST-MODIFIED:20250319T152630Z
UID:83693-1744416000-1744502399@dalmatiaoutdoors.com
SUMMARY:Zavratnica Trail
DESCRIPTION:The start is in Jablanac\, and the 6 km long trail passes through the heart of Zavratnica\, one of the most precious Adriatic pearls of Croatia.
URL:https://dalmatiaoutdoors.com/event/zavratnica-trail/
LOCATION:Zavrtnica trail\, Jablanac\, Uvala Zavratnica
ATTACH;FMTTYPE=image/jpeg:https://dalmatiaoutdoors.com/wp-content/uploads/2025/03/482140018_656202940264028_2506646022944351534_n.jpg
END:VEVENT
BEGIN:VEVENT
DTSTART;VALUE=DATE:20250412
DTEND;VALUE=DATE:20250413
DTSTAMP:20260423T015145
CREATED:20250319T151907Z
LAST-MODIFIED:20250319T151907Z
UID:83689-1744416000-1744502399@dalmatiaoutdoors.com
SUMMARY:Biševo Trail
DESCRIPTION:This year we also have a special surprise: all categories will pass through attractive tunnels! See you in Biševo on 12.4.
URL:https://dalmatiaoutdoors.com/event/bisevo-trail/
LOCATION:Biševo Trail\, Biševo Island\, Vis Island (Komiža)
ATTACH;FMTTYPE=image/jpeg:https://dalmatiaoutdoors.com/wp-content/uploads/2025/03/480527879_1063027732536623_4645250057767514378_n.jpg
END:VEVENT
BEGIN:VEVENT
DTSTART;VALUE=DATE:20250405
DTEND;VALUE=DATE:20250406
DTSTAMP:20260423T015145
CREATED:20250319T151157Z
LAST-MODIFIED:20250319T151205Z
UID:83684-1743811200-1743897599@dalmatiaoutdoors.com
SUMMARY:Hrvatska Sahara Trail
DESCRIPTION:An attractive race that leads through the famous Đurđevac Sands.
URL:https://dalmatiaoutdoors.com/event/hrvatska-sahara-trail/
LOCATION:Hrvatska Sahara Trail\, Đurđevac
ATTACH;FMTTYPE=image/jpeg:https://dalmatiaoutdoors.com/wp-content/uploads/2025/03/FB_IMG_1739704284320.jpg
END:VEVENT
BEGIN:VEVENT
DTSTART;VALUE=DATE:20250329
DTEND;VALUE=DATE:20250330
DTSTAMP:20260423T015145
CREATED:20250319T141225Z
LAST-MODIFIED:20250324T072157Z
UID:83679-1743206400-1743292799@dalmatiaoutdoors.com
SUMMARY:Life on Mars VIII
DESCRIPTION:The race starts and finishes on the waterfront in Metajna. The route is marked in parts with red and white hiking signs on rocks or spray
URL:https://dalmatiaoutdoors.com/event/life-on-mars-viii/
LOCATION:Life on Mars VIII\, Metajna\, Pag Island
ATTACH;FMTTYPE=image/png:https://dalmatiaoutdoors.com/wp-content/uploads/2025/03/LOM-logo.png
END:VEVENT
BEGIN:VEVENT
DTSTART;VALUE=DATE:20250322
DTEND;VALUE=DATE:20250323
DTSTAMP:20260423T015145
CREATED:20250319T140051Z
LAST-MODIFIED:20250319T140135Z
UID:83674-1742601600-1742687999@dalmatiaoutdoors.com
SUMMARY:Promina Trail 2025
DESCRIPTION:The Veliki Točak trail starts from the central square in the town of Drniš and loops back to the finish line at the central square. The length of the trail is 56.6 kilometers with a cumulative ascent of 3210 meters. The trail is marked with red and white stripes and arrows at the turns. There are 7 checkpoints and four refreshment stations on the trail.
URL:https://dalmatiaoutdoors.com/event/promina-trail-2025/
LOCATION:Promina Trail 2025\, Drniš
ATTACH;FMTTYPE=image/png:https://dalmatiaoutdoors.com/wp-content/uploads/2025/03/logo-prominatrail.png
END:VEVENT
BEGIN:VEVENT
DTSTART;TZID=Europe/Zagreb:20250321T190000
DTEND;TZID=Europe/Zagreb:20250321T233000
DTSTAMP:20260423T015145
CREATED:20250319T160842Z
LAST-MODIFIED:20250319T160914Z
UID:83707-1742583600-1742599800@dalmatiaoutdoors.com
SUMMARY:Mrkla strka 2025
DESCRIPTION:The route starts from the town center (the market near the Parish Church)\, passes by the Church of St. Vincent\, then follows the road along the coast towards Hotel Posejdon\, where it transitions from the road to a rail track (single track) along the sea to Hotel Adria. In Mikulina Harbor\, it climbs off the sea path (volunteers will direct) to the upper dirt road\, which continues all the way to Gradina. From there\, it descends via stairs (left turn) into the bay and then takes another left turn towards the headland of St. Ivan (volunteers will direct).
URL:https://dalmatiaoutdoors.com/event/mrkla-strka-2025/
LOCATION:Mrkla strka 2025\, Vela Luka\, Korčula Island
ATTACH;FMTTYPE=image/jpeg:https://dalmatiaoutdoors.com/wp-content/uploads/2025/03/481080374_1037440438416714_4918047455658843211_n.jpg
END:VEVENT
BEGIN:VEVENT
DTSTART;TZID=Europe/Zagreb:20250117T155408
DTEND;TZID=Europe/Zagreb:20250117T155408
DTSTAMP:20260423T015145
CREATED:20250117T155408Z
LAST-MODIFIED:20250117T155408Z
UID:83614-1737129248-1737129248@dalmatiaoutdoors.com
SUMMARY:Cetina Adventure Race
DESCRIPTION:Adventure sport enthusiasts are given an opportunity to discover the unique and hitherto insufficiently explored natural beauty of the Dalmatian hinterland. The Cetina Adventure Race is organised by Adventures sports club Cetina Adventure\, Mountain Club Svilaja\, Adventure Club Osmica\, The Vlaji Sinj Cycling Association and Dalmatia Explorer. Their joint aim is to promote sports activities as well as beautiful scenic areas of the Cetinska Krajina Region. \nThe route of the race goes down the Cetina River and through the wild scenery in the part of the Kamešnica and Dinara mountains\, with the winning post in Sinj. Contestants are expected to take part in canoeing\, swimming\, MTB\, climbing\, abseiling\, sports jumping from boulders into waters\, rope crossing\, with many other surprises waiting for them. Not only that the Cetina Adventure Race includes conquering natural obstacles and enforced challenges as well as facing unforeseeable weather conditions\, but as a team contest it also fosters and reinforces team spirit\, giving a boost to a healthy spirit in a healthy body. \nThe race serves as a test of the limits of human endurance and will power\, proving that winning does not equal to reaching the winning post first.
URL:https://dalmatiaoutdoors.com/event/cetina-adventure-race/
LOCATION:Cetina Adventure Race\, Cetina River\, Sinj
ATTACH;FMTTYPE=image/jpeg:https://dalmatiaoutdoors.com/wp-content/uploads/2025/01/ead47d36e50510c345eb86a3568f763f_XL.jpg
END:VEVENT
END:VCALENDAR